BEGIN:VCALENDAR
VERSION:2.0
PRODID:icalendar-ruby
CALSCALE:GREGORIAN
METHOD:PUBLISH
BEGIN:VEVENT
DTSTAMP:20260425T033737Z
UID:171-464542@stmarkbc.org
DTSTART:20260606T020000Z
DTEND:20260606T040000Z
CLASS:PUBLIC
CREATED:20260421T191524
DESCRIPTION:This Friday at Youth Group\, everything will be decided the onl
 y way that truly matters: Rock. Paper. Scissors.\nWho will rise to glory? 
 Who will fall to a poorly timed paper? Come test your skills\, your instin
 cts\, and your courage in the ultimate showdown. Victory (and bragging rig
 hts) await.
LAST-MODIFIED:20260421T191524
LOCATION:
SUMMARY:Youth Group
URL;VALUE=URI:https://stmarkbc.org/events/youth-group--171/2026-06-05
ATTACH;FILENAME=Youth Group (1).png;FMTTYPE=image/png:https://dq5pwpg1q8ru0
 .cloudfront.net/2026/04/22/02/15/24/5f6134dd-df15-4328-828b-abb0b4d5fd20/Y
 outh%20Group%20(1).png
END:VEVENT
END:VCALENDAR
